BEGIN:VCALENDAR
VERSION:2.0
CALSCALE:GREGORIAN
PRODID:adamgibbons/ics
METHOD:PUBLISH
X-PUBLISHED-TTL:PT1H
BEGIN:VEVENT
UID:7@art-calendar.grepfruit.space
SUMMARY:Constellation - Anarchist book fair // Salon du livre anarchiste
DTSTAMP:20260420T080202Z
DTSTART:20260516T140000Z
DTEND:20260516T210000Z
DESCRIPTION:Plus d'infos :\nhttps://calendrier.constellationmtl.net/event/s
	alon-du-livre-anarchiste-anarchist-bookfair-1\n[https://calendrier.constel
	lationmtl.net/event/salon-du-livre-anarchiste-anarchist-bookfair-1]
URL:https://art-calendar.grepfruit.space/event/constellation-anarchist-book
	-fair-salon-du-livre-anarchiste
LOCATION:CEDA - 2515 rue Delisle\, Montréal\, QC H3J 1K8
STATUS:CONFIRMED
CATEGORIES:community event,free,market or fair
X-ALT-DESC;FMTTYPE=text/html:<p>Plus d'infos : <a href="https://calendrier.
	constellationmtl.net/event/salon-du-livre-anarchiste-anarchist-bookfair-1"
	 target="_blank">https://calendrier.constellationmtl.net/event/salon-du-li
	vre-anarchiste-anarchist-bookfair-1</a></p>
BEGIN:VALARM
ACTION:DISPLAY
DESCRIPTION:Constellation - Anarchist book fair // Salon du livre anarchist
	e
TRIGGER:-PT1H
END:VALARM
END:VEVENT
END:VCALENDAR
